BEGIN:VCALENDAR
VERSION:2.0
PRODID:-//Philipp-Matthäus-Hahn Gemeinschaftsschule Kornwestheim - ECPv6.15.20//NONSGML v1.0//EN
CALSCALE:GREGORIAN
METHOD:PUBLISH
X-ORIGINAL-URL:https://pmh-schule.de
X-WR-CALDESC:Veranstaltungen für Philipp-Matthäus-Hahn Gemeinschaftsschule Kornwestheim
REFRESH-INTERVAL;VALUE=DURATION:PT1H
X-Robots-Tag:noindex
X-PUBLISHED-TTL:PT1H
BEGIN:VTIMEZONE
TZID:Europe/Berlin
BEGIN:DAYLIGHT
TZOFFSETFROM:+0100
TZOFFSETTO:+0200
TZNAME:CEST
DTSTART:20250330T010000
END:DAYLIGHT
BEGIN:STANDARD
TZOFFSETFROM:+0200
TZOFFSETTO:+0100
TZNAME:CET
DTSTART:20251026T010000
END:STANDARD
BEGIN:DAYLIGHT
TZOFFSETFROM:+0100
TZOFFSETTO:+0200
TZNAME:CEST
DTSTART:20260329T010000
END:DAYLIGHT
BEGIN:STANDARD
TZOFFSETFROM:+0200
TZOFFSETTO:+0100
TZNAME:CET
DTSTART:20261025T010000
END:STANDARD
BEGIN:DAYLIGHT
TZOFFSETFROM:+0100
TZOFFSETTO:+0200
TZNAME:CEST
DTSTART:20270328T010000
END:DAYLIGHT
BEGIN:STANDARD
TZOFFSETFROM:+0200
TZOFFSETTO:+0100
TZNAME:CET
DTSTART:20271031T010000
END:STANDARD
END:VTIMEZONE
BEGIN:VEVENT
DTSTART;TZID=Europe/Berlin:20260206T080000
DTEND;TZID=Europe/Berlin:20260206T170000
DTSTAMP:20260424T180451
CREATED:20250923T095336Z
LAST-MODIFIED:20260108T215617Z
UID:14763-1770364800-1770397200@pmh-schule.de
SUMMARY:Ausgabe der Halbjahresinformation / LEB
DESCRIPTION:
URL:https://pmh-schule.de/termin/ausgabe-der-halbjahresinformation-leb/
END:VEVENT
BEGIN:VEVENT
DTSTART;TZID=Europe/Berlin:20260209T113000
DTEND;TZID=Europe/Berlin:20260209T153000
DTSTAMP:20260424T180451
CREATED:20260123T111829Z
LAST-MODIFIED:20260123T112119Z
UID:16180-1770636600-1770651000@pmh-schule.de
SUMMARY:Standortgespräche in der Sekundarstufe
DESCRIPTION:Liebe Eltern der Sekundarstufe\,\nwie Ihnen beim ersten Elternabend mitgeteilt wurde\, werden wir in diesem Jahr zum\nersten Mal für die Standortgespräche zwei feste Zeitfenster anbieten.\nDiese Zeitfenster\, auch Elternsprechtag genannt\, sind folgende:\nMontag der 9. Februar 2026 von 11.30 Uhr – 15.30 Uhr\nund\nMittwoch\, der 25. Februar 2026 ab 13.30 Uhr.\nDie Klassenlehrkraft Ihres Kindes wird Ihnen innerhalb dieser Zeitfenster einen\nTermin für das Standortgespräch geben.\nDamit dieser wichtige Austausch zwischen Schule und Elternhaus stattfinden kann\,\nbitte ich Sie\, den Termin auch möglich zu machen.\nFür die Schülerinnen und Schüler entfällt in der Regel der Unterricht ab 11.15 Uhr
URL:https://pmh-schule.de/termin/standortgespraeche-in-der-sekundarstufe/
END:VEVENT
BEGIN:VEVENT
DTSTART;TZID=Europe/Berlin:20260226T160000
DTEND;TZID=Europe/Berlin:20260226T180000
DTSTAMP:20260424T180451
CREATED:20260116T094436Z
LAST-MODIFIED:20260116T094608Z
UID:15699-1772121600-1772128800@pmh-schule.de
SUMMARY:Tag der offenen Tür
DESCRIPTION:
URL:https://pmh-schule.de/termin/tag-der-offenen-tuer/
END:VEVENT
END:VCALENDAR